View In:
ArcGIS JavaScript
ArcGIS Online Map Viewer
ArcGIS Earth
ArcGIS Pro
Service Description: Sewer Sub-Basins, service tiled 144K-282, Web Mercator WKID 3857, Data storage: WKID: 2227 (CA State Plane Zone 3, US Feet, NAD83)
Map Name: Sewer Sub-Basins
Legend
All Layers and Tables
Dynamic Legend
Dynamic All Layers
Layers:
Description: Sewer Sub-Basins, service tiled 144K-282, Web Mercator WKID 3857, Data storage: WKID: 2227 (CA State Plane Zone 3, US Feet, NAD83)
Service Item Id: 5d46fbf2b3394bc6820117d24b9385ad
Copyright Text:
Spatial Reference:
102100
(3857)
Single Fused Map Cache: true
Tile Info:
- Height: 256
- Width: 256
- DPI: 96
-
Levels of Detail: 24
-
Level ID: 1
[ Start Tile, End Tile ]
- Resolution: 78271.5169639999
- Scale: 2.95828763795777E8
-
Level ID: 2
[ Start Tile, End Tile ]
- Resolution: 39135.7584820001
- Scale: 1.47914381897889E8
-
Level ID: 3
[ Start Tile, End Tile ]
- Resolution: 19567.8792409999
- Scale: 7.3957190948944E7
-
Level ID: 4
[ Start Tile, End Tile ]
- Resolution: 9783.93962049996
- Scale: 3.6978595474472E7
-
Level ID: 5
[ Start Tile, End Tile ]
- Resolution: 4891.96981024998
- Scale: 1.8489297737236E7
- Format: PNG
- Compression Quality: 0.0
- Origin: X: -2.0037508342787E7
Y: 2.0037508342787E7
- Spatial Reference: 102100
(3857)
Storage Info:
- Storage Format: esriMapCacheStorageModeCompactV2
- Packet Size: 128
Initial Extent:
XMin: -1.3565135062231597E7
YMin: 4527646.269674643
XMax: -1.3544752202119801E7
YMax: 4543539.053020009
Spatial Reference: 102100
(3857)
Full Extent:
XMin: -1.3565082852036638E7
YMin: 4528511.437029956
XMax: -1.354480441231476E7
YMax: 4542673.885664696
Spatial Reference: 102100
(3857)
Units: esriMeters
Supported Image Format Types: PNG32,PNG24,PNG,JPG,DIB,TIFF,EMF,PS,PDF,GIF,SVG,SVGZ,BMP
Document Info:
Title: Sewer SubBasins
Author:
Comments: <DIV STYLE="text-align:Left;font-size:12pt"><DIV><P><SPAN>Sewer Sub-Basins, service tiled 144K-282, Web Mercator WKID 3857, Data storage: WKID: 2227 (CA State Plane Zone 3, US Feet, NAD83)</SPAN></P></DIV></DIV>
Subject: Sub-Basins, management units for maintenance operations.
Category:
Keywords: Sewer,Basins,City of Livermore,California
AntialiasingMode: Fast
TextAntialiasingMode: Force
Supports Dynamic Layers: true
Resampling: false
MaxRecordCount: 2000
MaxImageHeight: 4096
MaxImageWidth: 4096
Supported Query Formats: JSON, geoJSON, PBF
Supports Query Data Elements: true
Min Scale: 144447.638572
Max Scale: 282.124294
Min LOD: 12
Max LOD: 21
Supports Datum Transformation: true
Child Resources:
Info
Dynamic Layer
Supported Operations:
Export Map
Identify
QueryLegends
QueryDomains
Find
Return Updates