View In:
ArcGIS JavaScript
ArcGIS Online Map Viewer
ArcGIS Earth
ArcGIS Pro
Service Description: Street Improvements: road casings, curb and gutter, sidewalk medians and landscape. Service in WGS84 (WKID: 3857), data in 6420: CA State Plane Zone 3 NAD83 (2011) Us Feet
Map Name: StreetImprovementsLandscape
Legend
All Layers and Tables
Dynamic Legend
Dynamic All Layers
Layers:
Description: Street Improvements: road casings, curb and gutter, sidewalk medians and landscape. Service in WGS84 (WKID: 3857), data in 6420: CA State Plane Zone 3 NAD83 (2011) Us Feet
Service Item Id: f1464a3c75c84a7aba77862db8a7fa75
Copyright Text:
Spatial Reference:
102100
(3857)
Single Fused Map Cache: true
Tile Info:
- Height: 256
- Width: 256
- DPI: 96
-
Levels of Detail: 24
-
Level ID: 1
[ Start Tile, End Tile ]
- Resolution: 78271.5169639999
- Scale: 2.95828763795777E8
-
Level ID: 2
[ Start Tile, End Tile ]
- Resolution: 39135.7584820001
- Scale: 1.47914381897889E8
-
Level ID: 3
[ Start Tile, End Tile ]
- Resolution: 19567.8792409999
- Scale: 7.3957190948944E7
-
Level ID: 4
[ Start Tile, End Tile ]
- Resolution: 9783.93962049996
- Scale: 3.6978595474472E7
-
Level ID: 5
[ Start Tile, End Tile ]
- Resolution: 4891.96981024998
- Scale: 1.8489297737236E7
- Format: PNG
- Compression Quality: 0.0
- Origin: X: -2.0037508342787E7
Y: 2.0037508342787E7
- Spatial Reference: 102100
(3857)
Storage Info:
- Storage Format: esriMapCacheStorageModeCompactV2
- Packet Size: 128
Initial Extent:
XMin: -1.3565522738640524E7
YMin: 4527052.60924445
XMax: -1.3546424502294429E7
YMax: 4542530.060114321
Spatial Reference: 102100
(3857)
Full Extent:
XMin: -1.3566337728055486E7
YMin: 4526418.551265994
XMax: -1.353993196481554E7
YMax: 4544231.6606203765
Spatial Reference: 102100
(3857)
Units: esriMeters
Supported Image Format Types: PNG32,PNG24,PNG,JPG,DIB,TIFF,EMF,PS,PDF,GIF,SVG,SVGZ,BMP
Document Info:
Title: Street Improvements
Author:
Comments: <DIV STYLE="text-align:Left;font-size:12pt"><DIV><DIV><P><SPAN>Street Improvements: road casings, curb and gutter, sidewalk medians and landscape. Service in WGS84 (WKID: 3857), data in 6420: CA State Plane Zone 3 NAD83 (2011) Us Feet</SPAN></P></DIV></DIV></DIV>
Subject: Street Improvements: Def Qry Landscape. Tiled 144k to 282
Category:
Keywords: City of Livermore,California,Streets,Landscape Strip
AntialiasingMode: Fast
TextAntialiasingMode: Force
Supports Dynamic Layers: true
MaxRecordCount: 2000
MaxImageHeight: 4096
MaxImageWidth: 4096
Supported Query Formats: JSON, geoJSON, PBF
Supports Query Data Elements: true
Min Scale: 144447.638572
Max Scale: 282.124294
Min LOD: 12
Max LOD: 21
Supports Datum Transformation: true
Child Resources:
Info
Dynamic Layer
Supported Operations:
Export Map
Identify
QueryLegends
QueryDomains
Find
EstimateExportTilesSize
ExportTiles
Return Updates