View In:
ArcGIS JavaScript
ArcGIS Online Map Viewer
ArcGIS Earth
ArcGIS Pro
Service Description: Trees within parks, streetscape, data stored in local projection, service in Web Mercator, tiled
Map Name: Trees-City
Legend
All Layers and Tables
Dynamic Legend
Dynamic All Layers
Layers:
Description: Trees within parks, streetscape, data stored in local projection, service in Web Mercator, tiled tiled 144K-282
Service Item Id: 35007c2dafd24668a24c9c05032b6d06
Copyright Text:
Spatial Reference:
102100
(3857)
Single Fused Map Cache: true
Tile Info:
- Height: 256
- Width: 256
- DPI: 96
-
Levels of Detail: 24
-
Level ID: 1
[ Start Tile, End Tile ]
- Resolution: 78271.5169639999
- Scale: 2.95828763795777E8
-
Level ID: 2
[ Start Tile, End Tile ]
- Resolution: 39135.7584820001
- Scale: 1.47914381897889E8
-
Level ID: 3
[ Start Tile, End Tile ]
- Resolution: 19567.8792409999
- Scale: 7.3957190948944E7
-
Level ID: 4
[ Start Tile, End Tile ]
- Resolution: 9783.93962049996
- Scale: 3.6978595474472E7
-
Level ID: 5
[ Start Tile, End Tile ]
- Resolution: 4891.96981024998
- Scale: 1.8489297737236E7
- Format: PNG
- Compression Quality: 0.0
- Origin: X: -2.0037508342787E7
Y: 2.0037508342787E7
- Spatial Reference: 102100
(3857)
Storage Info:
- Storage Format: esriMapCacheStorageModeCompactV2
- Packet Size: 128
Initial Extent:
XMin: -1.3565943509140542E7
YMin: 4526337.282937289
XMax: -1.3545385343024211E7
YMax: 4542708.409429542
Spatial Reference: 102100
Full Extent:
XMin: -1.3565088398360394E7
YMin: 4526501.157008042
XMax: -1.3546240453804359E7
YMax: 4542544.535358789
Spatial Reference: 102100
Units: esriMeters
Supported Image Format Types: PNG32,PNG24,PNG,JPG,DIB,TIFF,EMF,PS,PDF,GIF,SVG,SVGZ,BMP
Document Info:
Title: City of Livermore Trees
Author:
Comments: <DIV STYLE="text-align:Left;font-size:12pt"><DIV><DIV><P><SPAN>Trees within parks, streetscape, data stored in local projection, service in Web Mercator, tiled tiled 144K-282</SPAN></P></DIV></DIV></DIV>
Subject: Trees within parks, streetscape, city-owned and managed. Data stored in local projection, service in Web Mercator, tiled 144K-282
Category:
Keywords: City of Livermore,Trees
AntialiasingMode: Fast
TextAntialiasingMode: Force
Supports Dynamic Layers: true
MaxRecordCount: 2000
MaxImageHeight: 4096
MaxImageWidth: 4096
Supported Query Formats: JSON, geoJSON, PBF
Supports Query Data Elements: true
Min Scale: 144447.638572
Max Scale: 282.124294
Min LOD: 12
Max LOD: 21
Supports Datum Transformation: true
Child Resources:
Info
Dynamic Layer
Supported Operations:
Export Map
Identify
QueryLegends
QueryDomains
Find
Return Updates