View In:
ArcGIS JavaScript
ArcGIS Online Map Viewer
ArcGIS Earth
ArcGIS Pro
Service Description: Schools, parks, golf course, airport, misc. public facilities, creeks, lakes, golf course, airport. creeks WKID: 3857, WGS84 Web Mercator (aux. sph.)
Map Name: Landmarks
Legend
All Layers and Tables
Dynamic Legend
Dynamic All Layers
Layers:
Description: Schools, parks, golf course, airport, misc. public facilities, creeks, lakes, golf course, airport. creeks WKID: 3857, WGS84 Web Mercator (aux. sph.)
Service Item Id: 239ef7d593f84fed85ccd13e7aba4d61
Copyright Text:
Spatial Reference:
102100
(3857)
Single Fused Map Cache: true
Tile Info:
- Height: 256
- Width: 256
- DPI: 96
-
Levels of Detail: 24
-
Level ID: 1
[ Start Tile, End Tile ]
- Resolution: 78271.5169639999
- Scale: 2.95828763795777E8
-
Level ID: 2
[ Start Tile, End Tile ]
- Resolution: 39135.7584820001
- Scale: 1.47914381897889E8
-
Level ID: 3
[ Start Tile, End Tile ]
- Resolution: 19567.8792409999
- Scale: 7.3957190948944E7
-
Level ID: 4
[ Start Tile, End Tile ]
- Resolution: 9783.93962049996
- Scale: 3.6978595474472E7
-
Level ID: 5
[ Start Tile, End Tile ]
- Resolution: 4891.96981024998
- Scale: 1.8489297737236E7
- Format: PNG
- Compression Quality: 0.0
- Origin: X: -2.0037508342787E7
Y: 2.0037508342787E7
- Spatial Reference: 102100
(3857)
Storage Info:
- Storage Format: esriMapCacheStorageModeCompactV2
- Packet Size: 128
Initial Extent:
XMin: -1.356633626754534E7
YMin: 4526103.5156350825
XMax: -1.3539930509904148E7
YMax: 4544545.2789750565
Spatial Reference: 102100
Full Extent:
XMin: -1.356633626754534E7
YMin: 4526417.845176868
XMax: -1.3539930509904148E7
YMax: 4544230.94943327
Spatial Reference: 102100
Units: esriMeters
Supported Image Format Types: PNG32,PNG24,PNG,JPG,DIB,TIFF,EMF,PS,PDF,GIF,SVG,SVGZ,BMP
Document Info:
Title: Landmarks
Author:
Comments: <DIV STYLE="text-align:Left;font-size:12pt"><DIV><P><SPAN>Schools, parks, golf course, airport, misc. public facilities, creeks, lakes, golf course, airport. creeks WKID: 3857, WGS84 Web Mercator (aux. sph.)</SPAN></P></DIV></DIV>
Subject: General Use Map Service of base layers for the City of Livermore, used in core sites
Category:
Keywords: City of Livermore,California
AntialiasingMode: Fast
TextAntialiasingMode: Force
Supports Dynamic Layers: true
Resampling: false
MaxRecordCount: 2000
MaxImageHeight: 4096
MaxImageWidth: 4096
Supported Query Formats: JSON, geoJSON, PBF
Supports Query Data Elements: true
Min Scale: 288895.277144
Max Scale: 282.124294
Min LOD: 11
Max LOD: 21
Supports Datum Transformation: true
Child Resources:
Info
Dynamic Layer
Supported Operations:
Export Map
Identify
QueryLegends
QueryDomains
Find
Return Updates