View In:
ArcGIS JavaScript
ArcGIS Online Map Viewer
ArcGIS Earth
ArcGIS Pro
Service Description: Buildings, tiled WKID: 6420 (CA State Plane Zone 3, US Feet, NAD83 (2011))
Map Name: Buildings
Legend
All Layers and Tables
Dynamic Legend
Dynamic All Layers
Layers:
Description: Buildings, tiled WKID: 6420 (CA State Plane Zone 3, US Feet, NAD83 (2011))
Service Item Id: 245177824caa41f8bb99c832c3a40943
Copyright Text:
Spatial Reference:
102100
(3857)
Single Fused Map Cache: true
Tile Info:
- Height: 256
- Width: 256
- DPI: 96
-
Levels of Detail: 24
-
Level ID: 1
[ Start Tile, End Tile ]
- Resolution: 78271.5169639999
- Scale: 2.95828763795777E8
-
Level ID: 2
[ Start Tile, End Tile ]
- Resolution: 39135.7584820001
- Scale: 1.47914381897889E8
-
Level ID: 3
[ Start Tile, End Tile ]
- Resolution: 19567.8792409999
- Scale: 7.3957190948944E7
-
Level ID: 4
[ Start Tile, End Tile ]
- Resolution: 9783.93962049996
- Scale: 3.6978595474472E7
-
Level ID: 5
[ Start Tile, End Tile ]
- Resolution: 4891.96981024998
- Scale: 1.8489297737236E7
- Format: PNG
- Compression Quality: 0.0
- Origin: X: -2.0037508342787E7
Y: 2.0037508342787E7
- Spatial Reference: 102100
(3857)
Storage Info:
- Storage Format: esriMapCacheStorageModeCompactV2
- Packet Size: 128
Initial Extent:
XMin: -1.3563960377244335E7
YMin: 4527818.4472024115
XMax: -1.3541964435737371E7
YMax: 4543180.397926313
Spatial Reference: 102100
(3857)
Full Extent:
XMin: -1.3566279778042039E7
YMin: 4526065.259589711
XMax: -1.3543698991472203E7
YMax: 4542591.95610473
Spatial Reference: 102100
(3857)
Units: esriMeters
Supported Image Format Types: PNG32,PNG24,PNG,JPG,DIB,TIFF,EMF,PS,PDF,GIF,SVG,SVGZ,BMP
Document Info:
Title: Buildings
Author:
Comments: <DIV STYLE="text-align:Left;font-size:12pt"><DIV><P><SPAN>Buildings, tiled WKID: 6420 (CA State Plane Zone 3, US Feet, NAD83 (2011))</SPAN></P></DIV></DIV>
Subject: Buildings
Category:
Keywords: City of Livermore,Alameda County,California,Buildings
AntialiasingMode: Fast
TextAntialiasingMode: Force
Supports Dynamic Layers: true
Resampling: false
MaxRecordCount: 2000
MaxImageHeight: 4096
MaxImageWidth: 4096
Supported Query Formats: JSON, geoJSON, PBF
Supports Query Data Elements: true
Min Scale: 144448
Max Scale: 0
Min LOD: 12
Max LOD: 21
Supports Datum Transformation: true
Child Resources:
Info
Dynamic Layer
Supported Operations:
Export Map
Identify
QueryLegends
QueryDomains
Find
EstimateExportTilesSize
ExportTiles
Return Updates