View In:
ArcGIS JavaScript
ArcGIS Online Map Viewer
ArcGIS Earth
ArcGIS Pro
Service Description: Addresses, anno (1250-4500), pt (0-1250). Large scale displays unit and z-addresses, tiled, WKID 6420
Map Name: Addresses
Legend
All Layers and Tables
Dynamic Legend
Dynamic All Layers
Layers:
Description: Addresses, anno (1250-4500), pt (0-1250). Large scale displays unit and z-addresses, tiled, WKID 3857
Service Item Id: 4364bbdd9f6d4ee793264f628ba8e96c
Copyright Text:
Spatial Reference:
102100
(3857)
Single Fused Map Cache: true
Tile Info:
- Height: 256
- Width: 256
- DPI: 96
-
Levels of Detail: 24
-
Level ID: 1
[ Start Tile, End Tile ]
- Resolution: 78271.5169639999
- Scale: 2.95828763795777E8
-
Level ID: 2
[ Start Tile, End Tile ]
- Resolution: 39135.7584820001
- Scale: 1.47914381897889E8
-
Level ID: 3
[ Start Tile, End Tile ]
- Resolution: 19567.8792409999
- Scale: 7.3957190948944E7
-
Level ID: 4
[ Start Tile, End Tile ]
- Resolution: 9783.93962049996
- Scale: 3.6978595474472E7
-
Level ID: 5
[ Start Tile, End Tile ]
- Resolution: 4891.96981024998
- Scale: 1.8489297737236E7
- Format: PNG
- Compression Quality: 0.0
- Origin: X: -2.0037508342787E7
Y: 2.0037508342787E7
- Spatial Reference: 102100
(3857)
Storage Info:
- Storage Format: esriMapCacheStorageModeCompactV2
- Packet Size: 128
Initial Extent:
XMin: -1.3556306603708642E7
YMin: 4533337.209823059
XMax: -1.3554610674066784E7
YMax: 4534521.645941932
Spatial Reference: 102100
(3857)
Full Extent:
XMin: -1.356689813029761E7
YMin: 4525942.936716666
XMax: -1.3544336384741813E7
YMax: 4541165.898450525
Spatial Reference: 102100
(3857)
Units: esriMeters
Supported Image Format Types: PNG32,PNG24,PNG,JPG,DIB,TIFF,EMF,PS,PDF,GIF,SVG,SVGZ,BMP
Document Info:
Title: Addresses
Author:
Comments: <DIV STYLE="text-align:Left;font-size:12pt"><DIV><P><SPAN>Addresses, anno (1250-4500), pt (0-1250). Large scale displays unit and z-addresses, tiled, WKID 3857</SPAN></P></DIV></DIV>
Subject: City of Livermore addresses
Category:
Keywords: Livermore,CA,Alameda County,Address
AntialiasingMode: Fast
TextAntialiasingMode: Force
Supports Dynamic Layers: true
Resampling: false
MaxRecordCount: 2000
MaxImageHeight: 4096
MaxImageWidth: 4096
Supported Query Formats: JSON, geoJSON, PBF
Supports Query Data Elements: true
Min Scale: 144447.638572
Max Scale: 282.124294
Min LOD: 12
Max LOD: 21
Supports Datum Transformation: true
Child Resources:
Info
Dynamic Layer
Supported Operations:
Export Map
Identify
QueryLegends
QueryDomains
Find
EstimateExportTilesSize
ExportTiles
Return Updates